BEGIN:VCALENDAR
VERSION:2.0
PRODID:-//Mid America Conference of Clubs - ECPv6.15.20//NONSGML v1.0//EN
CALSCALE:GREGORIAN
METHOD:PUBLISH
X-ORIGINAL-URL:https://www.midamericaconferenceofclubs.org
X-WR-CALDESC:Events for Mid America Conference of Clubs
REFRESH-INTERVAL;VALUE=DURATION:PT1H
X-Robots-Tag:noindex
X-PUBLISHED-TTL:PT1H
BEGIN:VTIMEZONE
TZID:UTC
BEGIN:STANDARD
TZOFFSETFROM:+0000
TZOFFSETTO:+0000
TZNAME:UTC
DTSTART:20230101T000000
END:STANDARD
END:VTIMEZONE
BEGIN:VEVENT
DTSTART;VALUE=DATE:20240419
DTEND;VALUE=DATE:20240422
DTSTAMP:20260421T055729
CREATED:20230917T143651Z
LAST-MODIFIED:20230917T180024Z
UID:1907-1713484800-1713743999@www.midamericaconferenceofclubs.org
SUMMARY:Conductors Leather Run
DESCRIPTION:
URL:https://www.midamericaconferenceofclubs.org/event/conductors-leather-run-2/
LOCATION:Whispering Oaks Retreat and Campground\, 926 Walker Rd\, Hampshire\, TN\, 38461\, United States
CATEGORIES:Conductors,Leather Run,MACC Meeting
ATTACH;FMTTYPE=image/webp:https://www.midamericaconferenceofclubs.org/wp-content/uploads/2022/10/rsw-984h-606-1.webp
END:VEVENT
END:VCALENDAR