BEGIN:VCALENDAR
VERSION:2.0
PRODID:-//Mid America Conference of Clubs - ECPv6.15.20//NONSGML v1.0//EN
CALSCALE:GREGORIAN
METHOD:PUBLISH
X-WR-CALNAME:Mid America Conference of Clubs
X-ORIGINAL-URL:https://www.midamericaconferenceofclubs.org
X-WR-CALDESC:Events for Mid America Conference of Clubs
REFRESH-INTERVAL;VALUE=DURATION:PT1H
X-Robots-Tag:noindex
X-PUBLISHED-TTL:PT1H
BEGIN:VTIMEZONE
TZID:UTC
BEGIN:STANDARD
TZOFFSETFROM:+0000
TZOFFSETTO:+0000
TZNAME:UTC
DTSTART:20230101T000000
END:STANDARD
END:VTIMEZONE
BEGIN:VTIMEZONE
TZID:America/Chicago
BEGIN:DAYLIGHT
TZOFFSETFROM:-0600
TZOFFSETTO:-0500
TZNAME:CDT
DTSTART:20230312T080000
END:DAYLIGHT
BEGIN:STANDARD
TZOFFSETFROM:-0500
TZOFFSETTO:-0600
TZNAME:CST
DTSTART:20231105T070000
END:STANDARD
BEGIN:DAYLIGHT
TZOFFSETFROM:-0600
TZOFFSETTO:-0500
TZNAME:CDT
DTSTART:20240310T080000
END:DAYLIGHT
BEGIN:STANDARD
TZOFFSETFROM:-0500
TZOFFSETTO:-0600
TZNAME:CST
DTSTART:20241103T070000
END:STANDARD
BEGIN:DAYLIGHT
TZOFFSETFROM:-0600
TZOFFSETTO:-0500
TZNAME:CDT
DTSTART:20250309T080000
END:DAYLIGHT
BEGIN:STANDARD
TZOFFSETFROM:-0500
TZOFFSETTO:-0600
TZNAME:CST
DTSTART:20251102T070000
END:STANDARD
END:VTIMEZONE
BEGIN:VEVENT
DTSTART;VALUE=DATE:20241004
DTEND;VALUE=DATE:20241007
DTSTAMP:20260421T041030
CREATED:20230917T174835Z
LAST-MODIFIED:20230917T175107Z
UID:1911-1728000000-1728259199@www.midamericaconferenceofclubs.org
SUMMARY:Hoist Pig Weekend
DESCRIPTION:Hog tie your expectations and prepare to be amazed\, as our highly anticipated event returns with even more surprises and excitement in store. \nJoin us for an action-packed\, all-inclusive experience\, featuring: \n\nCatered meals\nCocktail parties\nA run bag complete with a special run pin\nCigar social\nThe eagerly anticipated MidSouth Kink & Leather Boy/Sir Contest\nDungeon play and demos\nLively after-hours parties\nA memorable Sunday awards brunch\n\nSpace is limited\, so don’t miss out on this incredible opportunity to reconnect\, celebrate\, and dive into the vibrant world of kink and leather.
URL:https://www.midamericaconferenceofclubs.org/event/hoist-pig-weekend-3/
LOCATION:Whispering Oaks Retreat and Campground\, 926 Walker Rd\, Hampshire\, TN\, 38461\, United States
CATEGORIES:Hoist,Leather Run,MACC Meeting
ATTACH;FMTTYPE=image/png:https://www.midamericaconferenceofclubs.org/wp-content/uploads/2021/07/Hoist.png
END:VEVENT
BEGIN:VEVENT
DTSTART;TZID=America/Chicago:20241005T110000
DTEND;TZID=America/Chicago:20241005T120000
DTSTAMP:20260421T041030
CREATED:20230917T175547Z
LAST-MODIFIED:20230917T175654Z
UID:1913-1728126000-1728129600@www.midamericaconferenceofclubs.org
SUMMARY:Fall 2024 MACC Meeting
DESCRIPTION:
URL:https://www.midamericaconferenceofclubs.org/event/fall-2024-macc-meeting/
LOCATION:Whispering Oaks Retreat and Campground\, 926 Walker Rd\, Hampshire\, TN\, 38461\, United States
CATEGORIES:Hoist,MACC Meeting
ATTACH;FMTTYPE=image/png:https://www.midamericaconferenceofclubs.org/wp-content/uploads/2021/08/MACC-LOGO-REBUILD-rev.png
END:VEVENT
END:VCALENDAR